BEGIN:VCALENDAR
VERSION:2.0
PRODID:-//Bosbegankenis - ECPv6.15.20//NONSGML v1.0//EN
CALSCALE:GREGORIAN
METHOD:PUBLISH
X-WR-CALNAME:Bosbegankenis
X-ORIGINAL-URL:https://www.bosbegankenis.org
X-WR-CALDESC:Events voor Bosbegankenis
REFRESH-INTERVAL;VALUE=DURATION:PT1H
X-Robots-Tag:noindex
X-PUBLISHED-TTL:PT1H
BEGIN:VTIMEZONE
TZID:Europe/Brussels
BEGIN:DAYLIGHT
TZOFFSETFROM:+0100
TZOFFSETTO:+0200
TZNAME:CEST
DTSTART:20250330T010000
END:DAYLIGHT
BEGIN:STANDARD
TZOFFSETFROM:+0200
TZOFFSETTO:+0100
TZNAME:CET
DTSTART:20251026T010000
END:STANDARD
BEGIN:DAYLIGHT
TZOFFSETFROM:+0100
TZOFFSETTO:+0200
TZNAME:CEST
DTSTART:20260329T010000
END:DAYLIGHT
BEGIN:STANDARD
TZOFFSETFROM:+0200
TZOFFSETTO:+0100
TZNAME:CET
DTSTART:20261025T010000
END:STANDARD
BEGIN:DAYLIGHT
TZOFFSETFROM:+0100
TZOFFSETTO:+0200
TZNAME:CEST
DTSTART:20270328T010000
END:DAYLIGHT
BEGIN:STANDARD
TZOFFSETFROM:+0200
TZOFFSETTO:+0100
TZNAME:CET
DTSTART:20271031T010000
END:STANDARD
END:VTIMEZONE
BEGIN:VEVENT
DTSTART;TZID=Europe/Brussels:20260501T190000
DTEND;TZID=Europe/Brussels:20260501T200000
DTSTAMP:20260420T180504
CREATED:20250221T093802Z
LAST-MODIFIED:20260203T161825Z
UID:26885-1777662000-1777665600@www.bosbegankenis.org
SUMMARY:Eucharistie met kaarskensprocessie
DESCRIPTION:Eucharistieviering n.a.v. Bosbegankenis o.l.v. Z.E.H. Leenknegt.
URL:https://www.bosbegankenis.org/kalender/bosbegankenis-onze-lieve-vrouw-van-smarten-eucharistieviering-met-aansluitende-kaarskensprocessie-4/
LOCATION:Boskapel\, Kasteelstraat 212\, Buggenhout
CATEGORIES:Activiteit,Culltuur,godsdienst,Misviering
ATTACH;FMTTYPE=image/jpeg:https://www.bosbegankenis.org/wp-content/uploads/2025/01/IMG_0368-scaled.jpg
ORGANIZER;CN="Mariaparochie in Buggenhout-Lebbeke":MAILTO:secretariaat@mariaparochie.be
END:VEVENT
BEGIN:VEVENT
DTSTART;TZID=Europe/Brussels:20260502T080000
DTEND;TZID=Europe/Brussels:20260502T090000
DTSTAMP:20260420T180504
CREATED:20250221T094216Z
LAST-MODIFIED:20260329T204013Z
UID:26886-1777708800-1777712400@www.bosbegankenis.org
SUMMARY:Eucharistieviering
DESCRIPTION:Eucharistieviering n.a.v. Bosbegankenis o.l.v. Z.E.H. Leenknegt.
URL:https://www.bosbegankenis.org/kalender/bosbegankenis-onze-lieve-vrouw-van-smarten-eucharistieviering-met-aansluitende-kaarskensprocessie-5/
LOCATION:Boskapel\, Kasteelstraat 212\, Buggenhout
CATEGORIES:Activiteit,Culltuur,godsdienst,Misviering
ATTACH;FMTTYPE=image/jpeg:https://www.bosbegankenis.org/wp-content/uploads/2025/01/IMG_0343-scaled.jpg
ORGANIZER;CN="Mariaparochie in Buggenhout-Lebbeke":MAILTO:secretariaat@mariaparochie.be
END:VEVENT
END:VCALENDAR